BEGIN:VCALENDAR
VERSION:2.0
PRODID:-//Hopewell Township - ECPv6.1.3//NONSGML v1.0//EN
CALSCALE:GREGORIAN
METHOD:PUBLISH
X-WR-CALNAME:Hopewell Township
X-ORIGINAL-URL:https://hopewelltownshipcc.com
X-WR-CALDESC:Events for Hopewell Township
REFRESH-INTERVAL;VALUE=DURATION:PT1H
X-Robots-Tag:noindex
X-PUBLISHED-TTL:PT1H
BEGIN:VTIMEZONE
TZID:America/New_York
BEGIN:DAYLIGHT
TZOFFSETFROM:-0500
TZOFFSETTO:-0400
TZNAME:EDT
DTSTART:20220313T070000
END:DAYLIGHT
BEGIN:STANDARD
TZOFFSETFROM:-0400
TZOFFSETTO:-0500
TZNAME:EST
DTSTART:20221106T060000
END:STANDARD
BEGIN:DAYLIGHT
TZOFFSETFROM:-0500
TZOFFSETTO:-0400
TZNAME:EDT
DTSTART:20230312T070000
END:DAYLIGHT
BEGIN:STANDARD
TZOFFSETFROM:-0400
TZOFFSETTO:-0500
TZNAME:EST
DTSTART:20231105T060000
END:STANDARD
END:VTIMEZONE
BEGIN:VEVENT
DTSTART;TZID=America/New_York:20231010T190000
DTEND;TZID=America/New_York:20231010T190000
DTSTAMP:20260425T062959
CREATED:20221221T175650Z
LAST-MODIFIED:20221221T175650Z
UID:1759-1696964400-1696964400@hopewelltownshipcc.com
SUMMARY:Parks & Recreation Meeting
DESCRIPTION:
URL:https://hopewelltownshipcc.com/event/parks-recreation-meeting-9/
END:VEVENT
BEGIN:VEVENT
DTSTART;TZID=America/New_York:20231002T190000
DTEND;TZID=America/New_York:20231002T190000
DTSTAMP:20260425T062959
CREATED:20221220T135951Z
LAST-MODIFIED:20221220T135951Z
UID:1703-1696273200-1696273200@hopewelltownshipcc.com
SUMMARY:Board of Supervisors Meeting
DESCRIPTION:
URL:https://hopewelltownshipcc.com/event/board-of-supervisors-meeting-20/
END:VEVENT
BEGIN:VEVENT
DTSTART;TZID=America/New_York:20230920T090000
DTEND;TZID=America/New_York:20230920T090000
DTSTAMP:20260425T062959
CREATED:20221221T140709Z
LAST-MODIFIED:20221221T140709Z
UID:1735-1695200400-1695200400@hopewelltownshipcc.com
SUMMARY:Board of Supervisors Meeting
DESCRIPTION:
URL:https://hopewelltownshipcc.com/event/board-of-supervisors-meeting-31/
END:VEVENT
BEGIN:VEVENT
DTSTART;TZID=America/New_York:20230912T190000
DTEND;TZID=America/New_York:20230912T190000
DTSTAMP:20260425T062959
CREATED:20221221T175614Z
LAST-MODIFIED:20221221T175614Z
UID:1757-1694545200-1694545200@hopewelltownshipcc.com
SUMMARY:Parks & Recreation Meeting
DESCRIPTION:
URL:https://hopewelltownshipcc.com/event/parks-recreation-meeting-8/
END:VEVENT
BEGIN:VEVENT
DTSTART;TZID=America/New_York:20230905T190000
DTEND;TZID=America/New_York:20230905T190000
DTSTAMP:20260425T062959
CREATED:20221220T135911Z
LAST-MODIFIED:20230509T151630Z
UID:1701-1693940400-1693940400@hopewelltownshipcc.com
SUMMARY:Board of Supervisors Meeting
DESCRIPTION:
URL:https://hopewelltownshipcc.com/event/board-of-supervisors-meeting-19/
END:VEVENT
BEGIN:VEVENT
DTSTART;TZID=America/New_York:20230823T090000
DTEND;TZID=America/New_York:20230823T090000
DTSTAMP:20260425T062959
CREATED:20221221T140628Z
LAST-MODIFIED:20221221T140628Z
UID:1733-1692781200-1692781200@hopewelltownshipcc.com
SUMMARY:Board of Supervisors Meeting
DESCRIPTION:
URL:https://hopewelltownshipcc.com/event/board-of-supervisors-meeting-30/
END:VEVENT
BEGIN:VEVENT
DTSTART;TZID=America/New_York:20230808T190000
DTEND;TZID=America/New_York:20230808T190000
DTSTAMP:20260425T062959
CREATED:20221221T172958Z
LAST-MODIFIED:20221221T175235Z
UID:1753-1691521200-1691521200@hopewelltownshipcc.com
SUMMARY:Parks & Recreation Meeting
DESCRIPTION:
URL:https://hopewelltownshipcc.com/event/parks-recreation-meeting-6/
END:VEVENT
BEGIN:VEVENT
DTSTART;TZID=America/New_York:20230807T190000
DTEND;TZID=America/New_York:20230807T190000
DTSTAMP:20260425T062959
CREATED:20221220T135812Z
LAST-MODIFIED:20221220T135812Z
UID:1699-1691434800-1691434800@hopewelltownshipcc.com
SUMMARY:Board of Supervisors Meeting
DESCRIPTION:
URL:https://hopewelltownshipcc.com/event/board-of-supervisors-meeting-18/
END:VEVENT
BEGIN:VEVENT
DTSTART;TZID=America/New_York:20230719T090000
DTEND;TZID=America/New_York:20230719T090000
DTSTAMP:20260425T062959
CREATED:20221221T140557Z
LAST-MODIFIED:20221221T140557Z
UID:1731-1689757200-1689757200@hopewelltownshipcc.com
SUMMARY:Board of Supervisors Meeting
DESCRIPTION:
URL:https://hopewelltownshipcc.com/event/board-of-supervisors-meeting-29/
END:VEVENT
BEGIN:VEVENT
DTSTART;TZID=America/New_York:20230703T190000
DTEND;TZID=America/New_York:20230703T190000
DTSTAMP:20260425T062959
CREATED:20221220T135737Z
LAST-MODIFIED:20221220T135737Z
UID:1697-1688410800-1688410800@hopewelltownshipcc.com
SUMMARY:Board of Supervisors Meeting
DESCRIPTION:
URL:https://hopewelltownshipcc.com/event/board-of-supervisors-meeting-17/
END:VEVENT
BEGIN:VEVENT
DTSTART;TZID=America/New_York:20230621T090000
DTEND;TZID=America/New_York:20230621T090000
DTSTAMP:20260425T062959
CREATED:20221221T140529Z
LAST-MODIFIED:20221221T140529Z
UID:1729-1687338000-1687338000@hopewelltownshipcc.com
SUMMARY:Board of Supervisors Meeting
DESCRIPTION:
URL:https://hopewelltownshipcc.com/event/board-of-supervisors-meeting-28/
END:VEVENT
BEGIN:VEVENT
DTSTART;TZID=America/New_York:20230613T190000
DTEND;TZID=America/New_York:20230613T190000
DTSTAMP:20260425T062959
CREATED:20221221T175353Z
LAST-MODIFIED:20221221T175353Z
UID:1755-1686682800-1686682800@hopewelltownshipcc.com
SUMMARY:Parks & Recreation Meeting
DESCRIPTION:
URL:https://hopewelltownshipcc.com/event/parks-recreation-meeting-7/
END:VEVENT
BEGIN:VEVENT
DTSTART;TZID=America/New_York:20230605T190000
DTEND;TZID=America/New_York:20230605T190000
DTSTAMP:20260425T062959
CREATED:20221220T135659Z
LAST-MODIFIED:20221220T135659Z
UID:1695-1685991600-1685991600@hopewelltownshipcc.com
SUMMARY:Board of Supervisors Meeting
DESCRIPTION:
URL:https://hopewelltownshipcc.com/event/board-of-supervisors-meeting-16/
END:VEVENT
BEGIN:VEVENT
DTSTART;TZID=America/New_York:20230517T090000
DTEND;TZID=America/New_York:20230517T090000
DTSTAMP:20260425T062959
CREATED:20221221T140445Z
LAST-MODIFIED:20221221T140445Z
UID:1727-1684314000-1684314000@hopewelltownshipcc.com
SUMMARY:Board of Supervisors Meeting
DESCRIPTION:
URL:https://hopewelltownshipcc.com/event/board-of-supervisors-meeting-27/
END:VEVENT
BEGIN:VEVENT
DTSTART;TZID=America/New_York:20230509T190000
DTEND;TZID=America/New_York:20230509T190000
DTSTAMP:20260425T062959
CREATED:20221221T172824Z
LAST-MODIFIED:20221221T172824Z
UID:1751-1683658800-1683658800@hopewelltownshipcc.com
SUMMARY:Parks & Recreation Meeting
DESCRIPTION:
URL:https://hopewelltownshipcc.com/event/parks-recreation-meeting-5/
END:VEVENT
BEGIN:VEVENT
DTSTART;TZID=America/New_York:20230501T190000
DTEND;TZID=America/New_York:20230501T190000
DTSTAMP:20260425T062959
CREATED:20221220T135615Z
LAST-MODIFIED:20221220T135615Z
UID:1693-1682967600-1682967600@hopewelltownshipcc.com
SUMMARY:Board of Supervisors Meeting
DESCRIPTION:
URL:https://hopewelltownshipcc.com/event/board-of-supervisors-meeting-15/
END:VEVENT
BEGIN:VEVENT
DTSTART;TZID=America/New_York:20230419T090000
DTEND;TZID=America/New_York:20230419T090000
DTSTAMP:20260425T062959
CREATED:20221221T140334Z
LAST-MODIFIED:20221221T140334Z
UID:1725-1681894800-1681894800@hopewelltownshipcc.com
SUMMARY:Board of Supervisors Meeting
DESCRIPTION:
URL:https://hopewelltownshipcc.com/event/board-of-supervisors-meeting-26/
END:VEVENT
BEGIN:VEVENT
DTSTART;TZID=America/New_York:20230411T190000
DTEND;TZID=America/New_York:20230411T190000
DTSTAMP:20260425T062959
CREATED:20221221T172411Z
LAST-MODIFIED:20221221T172611Z
UID:1749-1681239600-1681239600@hopewelltownshipcc.com
SUMMARY:Parks & Recreation Meeting
DESCRIPTION:
URL:https://hopewelltownshipcc.com/event/parks-recreation-meeting-4/
END:VEVENT
BEGIN:VEVENT
DTSTART;TZID=America/New_York:20230403T190000
DTEND;TZID=America/New_York:20230403T190000
DTSTAMP:20260425T062959
CREATED:20221220T135338Z
LAST-MODIFIED:20221220T135453Z
UID:1690-1680548400-1680548400@hopewelltownshipcc.com
SUMMARY:Board of Supervisors Meeting
DESCRIPTION:
URL:https://hopewelltownshipcc.com/event/board-of-supervisors/
END:VEVENT
BEGIN:VEVENT
DTSTART;TZID=America/New_York:20230322T090000
DTEND;TZID=America/New_York:20230322T090000
DTSTAMP:20260425T062959
CREATED:20221221T140302Z
LAST-MODIFIED:20221221T140302Z
UID:1723-1679475600-1679475600@hopewelltownshipcc.com
SUMMARY:Board of Supervisors Meeting
DESCRIPTION:
URL:https://hopewelltownshipcc.com/event/board-of-supervisors-meeting-25/
END:VEVENT
BEGIN:VEVENT
DTSTART;TZID=America/New_York:20230306T190000
DTEND;TZID=America/New_York:20230306T190000
DTSTAMP:20260425T062959
CREATED:20221220T135241Z
LAST-MODIFIED:20221220T135241Z
UID:1688-1678129200-1678129200@hopewelltownshipcc.com
SUMMARY:Board of Supervisors Meeting
DESCRIPTION:
URL:https://hopewelltownshipcc.com/event/board-of-supervisors-meeting-14/
END:VEVENT
BEGIN:VEVENT
DTSTART;TZID=America/New_York:20230222T090000
DTEND;TZID=America/New_York:20230222T090000
DTSTAMP:20260425T062959
CREATED:20221221T140234Z
LAST-MODIFIED:20221221T140234Z
UID:1721-1677056400-1677056400@hopewelltownshipcc.com
SUMMARY:Board of Supervisors Meeting
DESCRIPTION:
URL:https://hopewelltownshipcc.com/event/board-of-supervisors-meeting-24/
END:VEVENT
BEGIN:VEVENT
DTSTART;TZID=America/New_York:20230214T070000
DTEND;TZID=America/New_York:20230214T070000
DTSTAMP:20260425T062959
CREATED:20221221T162119Z
LAST-MODIFIED:20221221T162119Z
UID:1745-1676358000-1676358000@hopewelltownshipcc.com
SUMMARY:Parks & Recreation Meeting
DESCRIPTION:
URL:https://hopewelltownshipcc.com/event/parks-recreation-meeting-3/
END:VEVENT
BEGIN:VEVENT
DTSTART;TZID=America/New_York:20230206T190000
DTEND;TZID=America/New_York:20230206T190000
DTSTAMP:20260425T062959
CREATED:20221220T134900Z
LAST-MODIFIED:20221220T134900Z
UID:1686-1675710000-1675710000@hopewelltownshipcc.com
SUMMARY:Board of Supervisors Meeting
DESCRIPTION:
URL:https://hopewelltownshipcc.com/event/board-of-supervisors-meeting-12/
END:VEVENT
BEGIN:VEVENT
DTSTART;TZID=America/New_York:20230118T090000
DTEND;TZID=America/New_York:20230118T090000
DTSTAMP:20260425T062959
CREATED:20221221T140129Z
LAST-MODIFIED:20221221T140129Z
UID:1719-1674032400-1674032400@hopewelltownshipcc.com
SUMMARY:Board of Supervisors Meeting
DESCRIPTION:
URL:https://hopewelltownshipcc.com/event/board-of-supervisors-meeting-23/
END:VEVENT
BEGIN:VEVENT
DTSTART;TZID=America/New_York:20230110T190000
DTEND;TZID=America/New_York:20230110T190000
DTSTAMP:20260425T062959
CREATED:20221221T161642Z
LAST-MODIFIED:20221221T161642Z
UID:1743-1673377200-1673377200@hopewelltownshipcc.com
SUMMARY:Parks & Recreation Meeting
DESCRIPTION:
URL:https://hopewelltownshipcc.com/event/parks-recreation-meeting-2/
END:VEVENT
BEGIN:VEVENT
DTSTART;TZID=America/New_York:20230104T093000
DTEND;TZID=America/New_York:20230104T093000
DTSTAMP:20260425T062959
CREATED:20221221T171939Z
LAST-MODIFIED:20221221T171939Z
UID:1747-1672824600-1672824600@hopewelltownshipcc.com
SUMMARY:Auditor's Meeting
DESCRIPTION:
URL:https://hopewelltownshipcc.com/event/auditors-meeting/
END:VEVENT
BEGIN:VEVENT
DTSTART;TZID=America/New_York:20230103T190000
DTEND;TZID=America/New_York:20230103T190000
DTSTAMP:20260425T062959
CREATED:20221220T134729Z
LAST-MODIFIED:20221220T134729Z
UID:1684-1672772400-1672772400@hopewelltownshipcc.com
SUMMARY:Board of Supervisors Meeting
DESCRIPTION:
URL:https://hopewelltownshipcc.com/event/board-of-supervisors-meeting-13/
END:VEVENT
BEGIN:VEVENT
DTSTART;TZID=America/New_York:20221208T190000
DTEND;TZID=America/New_York:20221208T190000
DTSTAMP:20260425T062959
CREATED:20220201T133417Z
LAST-MODIFIED:20220201T133417Z
UID:382-1670526000-1670526000@hopewelltownshipcc.com
SUMMARY:Newburg-Hopewell Sewer Authority Meeting
DESCRIPTION:
URL:https://hopewelltownshipcc.com/event/regular-monthly-meeting-11/
CATEGORIES:Newburg-Hopewell Sewer Authority Meeting
END:VEVENT
BEGIN:VEVENT
DTSTART;TZID=America/New_York:20221205T190000
DTEND;TZID=America/New_York:20221205T190000
DTSTAMP:20260425T062959
CREATED:20220201T134054Z
LAST-MODIFIED:20220201T134054Z
UID:409-1670266800-1670266800@hopewelltownshipcc.com
SUMMARY:Board of Supervisors Meeting
DESCRIPTION:
URL:https://hopewelltownshipcc.com/event/board-of-supervisors-meeting-11/
CATEGORIES:Board of Supervisors Meeting
END:VEVENT
END:VCALENDAR