BEGIN:VCALENDAR
VERSION:2.0
PRODID:-//Hopewell Township - ECPv6.1.3//NONSGML v1.0//EN
CALSCALE:GREGORIAN
METHOD:PUBLISH
X-WR-CALNAME:Hopewell Township
X-ORIGINAL-URL:https://hopewelltownshipcc.com
X-WR-CALDESC:Events for Hopewell Township
REFRESH-INTERVAL;VALUE=DURATION:PT1H
X-Robots-Tag:noindex
X-PUBLISHED-TTL:PT1H
BEGIN:VTIMEZONE
TZID:America/New_York
BEGIN:DAYLIGHT
TZOFFSETFROM:-0500
TZOFFSETTO:-0400
TZNAME:EDT
DTSTART:20240310T070000
END:DAYLIGHT
BEGIN:STANDARD
TZOFFSETFROM:-0400
TZOFFSETTO:-0500
TZNAME:EST
DTSTART:20241103T060000
END:STANDARD
BEGIN:DAYLIGHT
TZOFFSETFROM:-0500
TZOFFSETTO:-0400
TZNAME:EDT
DTSTART:20250309T070000
END:DAYLIGHT
BEGIN:STANDARD
TZOFFSETFROM:-0400
TZOFFSETTO:-0500
TZNAME:EST
DTSTART:20251102T060000
END:STANDARD
END:VTIMEZONE
BEGIN:VEVENT
DTSTART;TZID=America/New_York:20250409T190000
DTEND;TZID=America/New_York:20250409T190000
DTSTAMP:20260423T175149
CREATED:20250213T135337Z
LAST-MODIFIED:20250213T135337Z
UID:3832-1744225200-1744225200@hopewelltownshipcc.com
SUMMARY:Parks & Recreation Meeting
DESCRIPTION:
URL:https://hopewelltownshipcc.com/event/parks-recreation-meeting-23/
END:VEVENT
BEGIN:VEVENT
DTSTART;TZID=America/New_York:20250407T190000
DTEND;TZID=America/New_York:20250407T190000
DTSTAMP:20260423T175149
CREATED:20250213T134606Z
LAST-MODIFIED:20250213T134606Z
UID:3812-1744052400-1744052400@hopewelltownshipcc.com
SUMMARY:Board of Supervisors Meeting
DESCRIPTION:
URL:https://hopewelltownshipcc.com/event/board-of-supervisors-meeting-61/
END:VEVENT
BEGIN:VEVENT
DTSTART;TZID=America/New_York:20250320T183000
DTEND;TZID=America/New_York:20250320T183000
DTSTAMP:20260423T175149
CREATED:20250213T135814Z
LAST-MODIFIED:20250213T135814Z
UID:3846-1742495400-1742495400@hopewelltownshipcc.com
SUMMARY:Planning Commission Meeting
DESCRIPTION:
URL:https://hopewelltownshipcc.com/event/planning-commission-meeting-17/
END:VEVENT
BEGIN:VEVENT
DTSTART;TZID=America/New_York:20250312T190000
DTEND;TZID=America/New_York:20250312T190000
DTSTAMP:20260423T175149
CREATED:20250213T135311Z
LAST-MODIFIED:20250213T135311Z
UID:3830-1741806000-1741806000@hopewelltownshipcc.com
SUMMARY:Parks & Recreation Meeting
DESCRIPTION:
URL:https://hopewelltownshipcc.com/event/parks-recreation-meeting-22/
END:VEVENT
BEGIN:VEVENT
DTSTART;TZID=America/New_York:20250306T180000
DTEND;TZID=America/New_York:20250306T180000
DTSTAMP:20260423T175149
CREATED:20250227T164046Z
LAST-MODIFIED:20250227T164046Z
UID:3876-1741284000-1741284000@hopewelltownshipcc.com
SUMMARY:Agriculture Security Area Meeting
DESCRIPTION:
URL:https://hopewelltownshipcc.com/event/agriculture-security-area-meeting/
END:VEVENT
BEGIN:VEVENT
DTSTART;TZID=America/New_York:20250303T190000
DTEND;TZID=America/New_York:20250303T190000
DTSTAMP:20260423T175149
CREATED:20250213T134453Z
LAST-MODIFIED:20250213T134453Z
UID:3810-1741028400-1741028400@hopewelltownshipcc.com
SUMMARY:Board of Supervisors Meeting
DESCRIPTION:
URL:https://hopewelltownshipcc.com/event/board-of-supervisors-meeting-60/
END:VEVENT
BEGIN:VEVENT
DTSTART;TZID=America/New_York:20250220T183000
DTEND;TZID=America/New_York:20250220T183000
DTSTAMP:20260423T175149
CREATED:20250213T134335Z
LAST-MODIFIED:20250213T134335Z
UID:3808-1740076200-1740076200@hopewelltownshipcc.com
SUMMARY:Planning Commission Meeting
DESCRIPTION:
URL:https://hopewelltownshipcc.com/event/planning-commission-meeting-16/
END:VEVENT
BEGIN:VEVENT
DTSTART;TZID=America/New_York:20250213T190000
DTEND;TZID=America/New_York:20250213T190000
DTSTAMP:20260423T175149
CREATED:20250213T134235Z
LAST-MODIFIED:20250213T134235Z
UID:3806-1739473200-1739473200@hopewelltownshipcc.com
SUMMARY:Parks & Recreation Meeting
DESCRIPTION:
URL:https://hopewelltownshipcc.com/event/parks-recreation-meeting-21/
END:VEVENT
BEGIN:VEVENT
DTSTART;TZID=America/New_York:20250107T090000
DTEND;TZID=America/New_York:20250107T090000
DTSTAMP:20260423T175149
CREATED:20241120T175623Z
LAST-MODIFIED:20241120T175623Z
UID:3610-1736240400-1736240400@hopewelltownshipcc.com
SUMMARY:Auditor Meeting
DESCRIPTION:
URL:https://hopewelltownshipcc.com/event/auditor-meeting/
END:VEVENT
BEGIN:VEVENT
DTSTART;TZID=America/New_York:20250106T190000
DTEND;TZID=America/New_York:20250106T190000
DTSTAMP:20260423T175149
CREATED:20241120T175513Z
LAST-MODIFIED:20241120T175513Z
UID:3608-1736190000-1736190000@hopewelltownshipcc.com
SUMMARY:Board of Supervisors Meeting
DESCRIPTION:
URL:https://hopewelltownshipcc.com/event/board-of-supervisors-meeting-59/
END:VEVENT
BEGIN:VEVENT
DTSTART;TZID=America/New_York:20241219T183000
DTEND;TZID=America/New_York:20241219T183000
DTSTAMP:20260423T175149
CREATED:20241120T175226Z
LAST-MODIFIED:20241120T175226Z
UID:3606-1734633000-1734633000@hopewelltownshipcc.com
SUMMARY:Planning Commission Meeting
DESCRIPTION:
URL:https://hopewelltownshipcc.com/event/planning-commission-meeting-15/
END:VEVENT
BEGIN:VEVENT
DTSTART;TZID=America/New_York:20241219T173000
DTEND;TZID=America/New_York:20241219T173000
DTSTAMP:20260423T175149
CREATED:20241114T142330Z
LAST-MODIFIED:20241114T142330Z
UID:3576-1734629400-1734629400@hopewelltownshipcc.com
SUMMARY:Zoning Hearing Board Meeting
DESCRIPTION:
URL:https://hopewelltownshipcc.com/event/zoning-hearing-board-meeting-2/
END:VEVENT
BEGIN:VEVENT
DTSTART;TZID=America/New_York:20241218T090000
DTEND;TZID=America/New_York:20241218T090000
DTSTAMP:20260423T175149
CREATED:20240109T165752Z
LAST-MODIFIED:20240109T165752Z
UID:2732-1734512400-1734512400@hopewelltownshipcc.com
SUMMARY:Board of Supervisors Meeting
DESCRIPTION:
URL:https://hopewelltownshipcc.com/event/board-of-supervisors-meeting-58/
END:VEVENT
BEGIN:VEVENT
DTSTART;TZID=America/New_York:20241202T190000
DTEND;TZID=America/New_York:20241202T190000
DTSTAMP:20260423T175149
CREATED:20240109T165727Z
LAST-MODIFIED:20240109T165727Z
UID:2730-1733166000-1733166000@hopewelltownshipcc.com
SUMMARY:Board of Supervisors Meeting
DESCRIPTION:
URL:https://hopewelltownshipcc.com/event/board-of-supervisors-meeting-57/
END:VEVENT
BEGIN:VEVENT
DTSTART;TZID=America/New_York:20241120T090000
DTEND;TZID=America/New_York:20241120T090000
DTSTAMP:20260423T175149
CREATED:20240109T165646Z
LAST-MODIFIED:20240109T165646Z
UID:2728-1732093200-1732093200@hopewelltownshipcc.com
SUMMARY:Board of Supervisors Meeting
DESCRIPTION:
URL:https://hopewelltownshipcc.com/event/board-of-supervisors-meeting-56/
END:VEVENT
BEGIN:VEVENT
DTSTART;TZID=America/New_York:20241113T190000
DTEND;TZID=America/New_York:20241113T190000
DTSTAMP:20260423T175149
CREATED:20240109T165836Z
LAST-MODIFIED:20240109T165836Z
UID:2734-1731524400-1731524400@hopewelltownshipcc.com
SUMMARY:Parks & Recreation Meeting
DESCRIPTION:
URL:https://hopewelltownshipcc.com/event/parks-recreation-meeting-14/
END:VEVENT
BEGIN:VEVENT
DTSTART;TZID=America/New_York:20241104T190000
DTEND;TZID=America/New_York:20241104T190000
DTSTAMP:20260423T175149
CREATED:20240109T165617Z
LAST-MODIFIED:20240109T165617Z
UID:2726-1730746800-1730746800@hopewelltownshipcc.com
SUMMARY:Board of Supervisors Meeting
DESCRIPTION:
URL:https://hopewelltownshipcc.com/event/board-of-supervisors-meeting-55/
END:VEVENT
BEGIN:VEVENT
DTSTART;TZID=America/New_York:20241024T090000
DTEND;TZID=America/New_York:20241024T090000
DTSTAMP:20260423T175149
CREATED:20240109T165529Z
LAST-MODIFIED:20240109T165529Z
UID:2724-1729760400-1729760400@hopewelltownshipcc.com
SUMMARY:Board of Supervisors Meeting
DESCRIPTION:
URL:https://hopewelltownshipcc.com/event/board-of-supervisors-meeting-54/
END:VEVENT
BEGIN:VEVENT
DTSTART;TZID=America/New_York:20241009T190000
DTEND;TZID=America/New_York:20241009T190000
DTSTAMP:20260423T175149
CREATED:20240109T165903Z
LAST-MODIFIED:20240109T165903Z
UID:2736-1728500400-1728500400@hopewelltownshipcc.com
SUMMARY:Parks & Recreation Meeting
DESCRIPTION:
URL:https://hopewelltownshipcc.com/event/parks-recreation-meeting-15/
END:VEVENT
BEGIN:VEVENT
DTSTART;TZID=America/New_York:20241007T190000
DTEND;TZID=America/New_York:20241007T190000
DTSTAMP:20260423T175149
CREATED:20240109T165501Z
LAST-MODIFIED:20240109T165501Z
UID:2722-1728327600-1728327600@hopewelltownshipcc.com
SUMMARY:Board of Supervisors Meeting
DESCRIPTION:
URL:https://hopewelltownshipcc.com/event/board-of-supervisors-meeting-53/
END:VEVENT
BEGIN:VEVENT
DTSTART;TZID=America/New_York:20240918T090000
DTEND;TZID=America/New_York:20240918T090000
DTSTAMP:20260423T175149
CREATED:20240109T165430Z
LAST-MODIFIED:20240109T165430Z
UID:2720-1726650000-1726650000@hopewelltownshipcc.com
SUMMARY:Board of Supervisors Meeting
DESCRIPTION:
URL:https://hopewelltownshipcc.com/event/board-of-supervisors-meeting-52/
END:VEVENT
BEGIN:VEVENT
DTSTART;TZID=America/New_York:20240911T190000
DTEND;TZID=America/New_York:20240911T190000
DTSTAMP:20260423T175149
CREATED:20240109T165929Z
LAST-MODIFIED:20240109T165929Z
UID:2738-1726081200-1726081200@hopewelltownshipcc.com
SUMMARY:Parks & Recreation Meeting
DESCRIPTION:
URL:https://hopewelltownshipcc.com/event/parks-recreation-meeting-16/
END:VEVENT
BEGIN:VEVENT
DTSTART;TZID=America/New_York:20240903T190000
DTEND;TZID=America/New_York:20240903T190000
DTSTAMP:20260423T175149
CREATED:20240109T165404Z
LAST-MODIFIED:20240109T165404Z
UID:2718-1725390000-1725390000@hopewelltownshipcc.com
SUMMARY:Board of Supervisors Meeting
DESCRIPTION:
URL:https://hopewelltownshipcc.com/event/board-of-supervisors-meeting-51/
END:VEVENT
BEGIN:VEVENT
DTSTART;TZID=America/New_York:20240821T090000
DTEND;TZID=America/New_York:20240821T090000
DTSTAMP:20260423T175149
CREATED:20240109T165331Z
LAST-MODIFIED:20240109T165331Z
UID:2716-1724230800-1724230800@hopewelltownshipcc.com
SUMMARY:Board of Supervisors Meeting
DESCRIPTION:
URL:https://hopewelltownshipcc.com/event/board-of-supervisors-meeting-50/
END:VEVENT
BEGIN:VEVENT
DTSTART;TZID=America/New_York:20240814T190000
DTEND;TZID=America/New_York:20240814T190000
DTSTAMP:20260423T175149
CREATED:20240109T170022Z
LAST-MODIFIED:20240109T170022Z
UID:2740-1723662000-1723662000@hopewelltownshipcc.com
SUMMARY:Parks & Recreation Meeting
DESCRIPTION:
URL:https://hopewelltownshipcc.com/event/parks-recreation-meeting-17/
END:VEVENT
BEGIN:VEVENT
DTSTART;TZID=America/New_York:20240805T190000
DTEND;TZID=America/New_York:20240805T190000
DTSTAMP:20260423T175149
CREATED:20240109T165304Z
LAST-MODIFIED:20240109T165304Z
UID:2714-1722884400-1722884400@hopewelltownshipcc.com
SUMMARY:Board of Supervisors Meeting
DESCRIPTION:
URL:https://hopewelltownshipcc.com/event/board-of-supervisors-meeting-49/
END:VEVENT
BEGIN:VEVENT
DTSTART;TZID=America/New_York:20240718T183000
DTEND;TZID=America/New_York:20240718T183000
DTSTAMP:20260423T175149
CREATED:20240626T153826Z
LAST-MODIFIED:20240626T153826Z
UID:3263-1721327400-1721327400@hopewelltownshipcc.com
SUMMARY:Planning Commission Meeting
DESCRIPTION:
URL:https://hopewelltownshipcc.com/event/planning-commission-meeting-14/
END:VEVENT
BEGIN:VEVENT
DTSTART;TZID=America/New_York:20240717T090000
DTEND;TZID=America/New_York:20240717T090000
DTSTAMP:20260423T175149
CREATED:20240109T165216Z
LAST-MODIFIED:20240109T165216Z
UID:2712-1721206800-1721206800@hopewelltownshipcc.com
SUMMARY:Board of Supervisors Meeting
DESCRIPTION:
URL:https://hopewelltownshipcc.com/event/board-of-supervisors-meeting-48/
END:VEVENT
BEGIN:VEVENT
DTSTART;TZID=America/New_York:20240701T190000
DTEND;TZID=America/New_York:20240701T190000
DTSTAMP:20260423T175149
CREATED:20240109T165147Z
LAST-MODIFIED:20240109T165147Z
UID:2710-1719860400-1719860400@hopewelltownshipcc.com
SUMMARY:Board of Supervisors Meeting
DESCRIPTION:
URL:https://hopewelltownshipcc.com/event/board-of-supervisors-meeting-47/
END:VEVENT
BEGIN:VEVENT
DTSTART;TZID=America/New_York:20240620T183000
DTEND;TZID=America/New_York:20240620T183000
DTSTAMP:20260423T175149
CREATED:20240604T190347Z
LAST-MODIFIED:20240604T190438Z
UID:3228-1718908200-1718908200@hopewelltownshipcc.com
SUMMARY:Planning Commission Meeting
DESCRIPTION:
URL:https://hopewelltownshipcc.com/event/planning-commision/
END:VEVENT
END:VCALENDAR