BEGIN:VCALENDAR
VERSION:2.0
PRODID:-//Hopewell Township - ECPv6.1.3//NONSGML v1.0//EN
CALSCALE:GREGORIAN
METHOD:PUBLISH
X-WR-CALNAME:Hopewell Township
X-ORIGINAL-URL:https://hopewelltownshipcc.com
X-WR-CALDESC:Events for Hopewell Township
REFRESH-INTERVAL;VALUE=DURATION:PT1H
X-Robots-Tag:noindex
X-PUBLISHED-TTL:PT1H
BEGIN:VTIMEZONE
TZID:America/New_York
BEGIN:DAYLIGHT
TZOFFSETFROM:-0500
TZOFFSETTO:-0400
TZNAME:EDT
DTSTART:20220313T070000
END:DAYLIGHT
BEGIN:STANDARD
TZOFFSETFROM:-0400
TZOFFSETTO:-0500
TZNAME:EST
DTSTART:20221106T060000
END:STANDARD
BEGIN:DAYLIGHT
TZOFFSETFROM:-0500
TZOFFSETTO:-0400
TZNAME:EDT
DTSTART:20230312T070000
END:DAYLIGHT
BEGIN:STANDARD
TZOFFSETFROM:-0400
TZOFFSETTO:-0500
TZNAME:EST
DTSTART:20231105T060000
END:STANDARD
END:VTIMEZONE
BEGIN:VEVENT
DTSTART;TZID=America/New_York:20230118T090000
DTEND;TZID=America/New_York:20230118T090000
DTSTAMP:20260425T122127
CREATED:20221221T140129Z
LAST-MODIFIED:20221221T140129Z
UID:1719-1674032400-1674032400@hopewelltownshipcc.com
SUMMARY:Board of Supervisors Meeting
DESCRIPTION:
URL:https://hopewelltownshipcc.com/event/board-of-supervisors-meeting-23/
END:VEVENT
BEGIN:VEVENT
DTSTART;TZID=America/New_York:20230110T190000
DTEND;TZID=America/New_York:20230110T190000
DTSTAMP:20260425T122127
CREATED:20221221T161642Z
LAST-MODIFIED:20221221T161642Z
UID:1743-1673377200-1673377200@hopewelltownshipcc.com
SUMMARY:Parks & Recreation Meeting
DESCRIPTION:
URL:https://hopewelltownshipcc.com/event/parks-recreation-meeting-2/
END:VEVENT
BEGIN:VEVENT
DTSTART;TZID=America/New_York:20230104T093000
DTEND;TZID=America/New_York:20230104T093000
DTSTAMP:20260425T122127
CREATED:20221221T171939Z
LAST-MODIFIED:20221221T171939Z
UID:1747-1672824600-1672824600@hopewelltownshipcc.com
SUMMARY:Auditor's Meeting
DESCRIPTION:
URL:https://hopewelltownshipcc.com/event/auditors-meeting/
END:VEVENT
BEGIN:VEVENT
DTSTART;TZID=America/New_York:20230103T190000
DTEND;TZID=America/New_York:20230103T190000
DTSTAMP:20260425T122127
CREATED:20221220T134729Z
LAST-MODIFIED:20221220T134729Z
UID:1684-1672772400-1672772400@hopewelltownshipcc.com
SUMMARY:Board of Supervisors Meeting
DESCRIPTION:
URL:https://hopewelltownshipcc.com/event/board-of-supervisors-meeting-13/
END:VEVENT
BEGIN:VEVENT
DTSTART;TZID=America/New_York:20221208T190000
DTEND;TZID=America/New_York:20221208T190000
DTSTAMP:20260425T122127
CREATED:20220201T133417Z
LAST-MODIFIED:20220201T133417Z
UID:382-1670526000-1670526000@hopewelltownshipcc.com
SUMMARY:Newburg-Hopewell Sewer Authority Meeting
DESCRIPTION:
URL:https://hopewelltownshipcc.com/event/regular-monthly-meeting-11/
CATEGORIES:Newburg-Hopewell Sewer Authority Meeting
END:VEVENT
BEGIN:VEVENT
DTSTART;TZID=America/New_York:20221205T190000
DTEND;TZID=America/New_York:20221205T190000
DTSTAMP:20260425T122127
CREATED:20220201T134054Z
LAST-MODIFIED:20220201T134054Z
UID:409-1670266800-1670266800@hopewelltownshipcc.com
SUMMARY:Board of Supervisors Meeting
DESCRIPTION:
URL:https://hopewelltownshipcc.com/event/board-of-supervisors-meeting-11/
CATEGORIES:Board of Supervisors Meeting
END:VEVENT
BEGIN:VEVENT
DTSTART;TZID=America/New_York:20221117T183000
DTEND;TZID=America/New_York:20221117T183000
DTSTAMP:20260425T122127
CREATED:20220201T134649Z
LAST-MODIFIED:20220201T134649Z
UID:432-1668709800-1668709800@hopewelltownshipcc.com
SUMMARY:Planning Commission Meeting
DESCRIPTION:
URL:https://hopewelltownshipcc.com/event/planning-commission-meeting-10/
CATEGORIES:Planning Commission Meeting
END:VEVENT
BEGIN:VEVENT
DTSTART;TZID=America/New_York:20221110T190000
DTEND;TZID=America/New_York:20221110T190000
DTSTAMP:20260425T122127
CREATED:20220201T133343Z
LAST-MODIFIED:20220201T133343Z
UID:377-1668106800-1668106800@hopewelltownshipcc.com
SUMMARY:Newburg-Hopewell Sewer Authority Meeting
DESCRIPTION:
URL:https://hopewelltownshipcc.com/event/regular-monthly-meeting-10/
CATEGORIES:Newburg-Hopewell Sewer Authority Meeting
END:VEVENT
BEGIN:VEVENT
DTSTART;TZID=America/New_York:20221107T190000
DTEND;TZID=America/New_York:20221107T190000
DTSTAMP:20260425T122127
CREATED:20220201T134020Z
LAST-MODIFIED:20220201T134020Z
UID:407-1667847600-1667847600@hopewelltownshipcc.com
SUMMARY:Board of Supervisors Meeting
DESCRIPTION:
URL:https://hopewelltownshipcc.com/event/board-of-supervisors-meeting-10/
CATEGORIES:Board of Supervisors Meeting
END:VEVENT
BEGIN:VEVENT
DTSTART;TZID=America/New_York:20221101T190000
DTEND;TZID=America/New_York:20221101T200000
DTSTAMP:20260425T122127
CREATED:20220331T012717Z
LAST-MODIFIED:20220331T012717Z
UID:607-1667329200-1667332800@hopewelltownshipcc.com
SUMMARY:Parks & Recreation Board
DESCRIPTION:
URL:https://hopewelltownshipcc.com/event/parks-recreation-board-2/
LOCATION:Township Office\, 415 Three Square Hollow Rd\, Newburg\, PA
END:VEVENT
BEGIN:VEVENT
DTSTART;TZID=America/New_York:20221031T180000
DTEND;TZID=America/New_York:20221031T200000
DTSTAMP:20260425T122127
CREATED:20220908T130839Z
LAST-MODIFIED:20220908T130839Z
UID:1274-1667239200-1667246400@hopewelltownshipcc.com
SUMMARY:Trick-or-Treat Night
DESCRIPTION:
URL:https://hopewelltownshipcc.com/event/trick-or-treat-night/
END:VEVENT
BEGIN:VEVENT
DTSTART;TZID=America/New_York:20221030T160000
DTEND;TZID=America/New_York:20221030T180000
DTSTAMP:20260425T122127
CREATED:20220908T130322Z
LAST-MODIFIED:20220908T130452Z
UID:1269-1667145600-1667152800@hopewelltownshipcc.com
SUMMARY:Trunk-or-Treat
DESCRIPTION:Trunk-or-Treat
URL:https://hopewelltownshipcc.com/event/1269/
LOCATION:Hopewell Township Park\, 218 Shippensburg Rd\, Newburg\, PA\, 17240\, United States
END:VEVENT
BEGIN:VEVENT
DTSTART;TZID=America/New_York:20221020T183000
DTEND;TZID=America/New_York:20221020T183000
DTSTAMP:20260425T122127
CREATED:20220201T134623Z
LAST-MODIFIED:20220201T134623Z
UID:430-1666290600-1666290600@hopewelltownshipcc.com
SUMMARY:Planning Commission Meeting
DESCRIPTION:
URL:https://hopewelltownshipcc.com/event/planning-commission-meeting-9/
CATEGORIES:Planning Commission Meeting
END:VEVENT
BEGIN:VEVENT
DTSTART;TZID=America/New_York:20221013T190000
DTEND;TZID=America/New_York:20221013T190000
DTSTAMP:20260425T122127
CREATED:20220201T133304Z
LAST-MODIFIED:20220201T133304Z
UID:372-1665687600-1665687600@hopewelltownshipcc.com
SUMMARY:Newburg-Hopewell Sewer Authority Meeting
DESCRIPTION:
URL:https://hopewelltownshipcc.com/event/regular-monthly-meeting-9/
CATEGORIES:Newburg-Hopewell Sewer Authority Meeting
END:VEVENT
BEGIN:VEVENT
DTSTART;TZID=America/New_York:20221011T190000
DTEND;TZID=America/New_York:20221011T200000
DTSTAMP:20260425T122127
CREATED:20220331T012622Z
LAST-MODIFIED:20220331T012622Z
UID:605-1665514800-1665518400@hopewelltownshipcc.com
SUMMARY:Parks & Recreation Board Meeting
DESCRIPTION:
URL:https://hopewelltownshipcc.com/event/parks-recreation-board-meeting-4/
LOCATION:Township Office\, 415 Three Square Hollow Rd\, Newburg\, PA
END:VEVENT
BEGIN:VEVENT
DTSTART;TZID=America/New_York:20221003T190000
DTEND;TZID=America/New_York:20221003T190000
DTSTAMP:20260425T122127
CREATED:20220201T133955Z
LAST-MODIFIED:20220201T133955Z
UID:404-1664823600-1664823600@hopewelltownshipcc.com
SUMMARY:Board of Supervisors Meeting
DESCRIPTION:
URL:https://hopewelltownshipcc.com/event/board-of-supervisors-meeting-9/
CATEGORIES:Board of Supervisors Meeting
END:VEVENT
BEGIN:VEVENT
DTSTART;TZID=America/New_York:20220924T073000
DTEND;TZID=America/New_York:20220924T113000
DTSTAMP:20260425T122127
CREATED:20220312T172656Z
LAST-MODIFIED:20220312T173235Z
UID:569-1664004600-1664019000@hopewelltownshipcc.com
SUMMARY:Bulky Waste Days - Cumberland County Landfill
DESCRIPTION:620 Newville Rd. \nNewburg\, PA  17240
URL:https://hopewelltownshipcc.com/event/bulky-waste-days-cumberland-county-landfill-2/
END:VEVENT
BEGIN:VEVENT
DTSTART;TZID=America/New_York:20220915T183000
DTEND;TZID=America/New_York:20220915T183000
DTSTAMP:20260425T122127
CREATED:20220201T134555Z
LAST-MODIFIED:20220201T134555Z
UID:428-1663266600-1663266600@hopewelltownshipcc.com
SUMMARY:Planning Commission Meeting
DESCRIPTION:
URL:https://hopewelltownshipcc.com/event/planning-commission-meeting-8/
CATEGORIES:Planning Commission Meeting
END:VEVENT
BEGIN:VEVENT
DTSTART;TZID=America/New_York:20220913T190000
DTEND;TZID=America/New_York:20220913T200000
DTSTAMP:20260425T122127
CREATED:20220331T012501Z
LAST-MODIFIED:20220331T012501Z
UID:603-1663095600-1663099200@hopewelltownshipcc.com
SUMMARY:Parks & Recreation Board Meeting
DESCRIPTION:
URL:https://hopewelltownshipcc.com/event/parks-recreation-board-meeting-3/
LOCATION:Township Office\, 415 Three Square Hollow Rd\, Newburg\, PA
END:VEVENT
BEGIN:VEVENT
DTSTART;TZID=America/New_York:20220908T190000
DTEND;TZID=America/New_York:20220908T190000
DTSTAMP:20260425T122127
CREATED:20220201T133218Z
LAST-MODIFIED:20220201T133218Z
UID:370-1662663600-1662663600@hopewelltownshipcc.com
SUMMARY:Newburg-Hopewell Sewer Authority Meeting
DESCRIPTION:
URL:https://hopewelltownshipcc.com/event/regular-monthly-meeting-8/
CATEGORIES:Newburg-Hopewell Sewer Authority Meeting
END:VEVENT
BEGIN:VEVENT
DTSTART;TZID=America/New_York:20220906T190000
DTEND;TZID=America/New_York:20220906T190000
DTSTAMP:20260425T122127
CREATED:20220201T133925Z
LAST-MODIFIED:20220201T133925Z
UID:402-1662490800-1662490800@hopewelltownshipcc.com
SUMMARY:Board of Supervisors Meeting
DESCRIPTION:
URL:https://hopewelltownshipcc.com/event/board-of-supervisors-meeting-8/
CATEGORIES:Board of Supervisors Meeting
END:VEVENT
BEGIN:VEVENT
DTSTART;TZID=America/New_York:20220818T183000
DTEND;TZID=America/New_York:20220818T183000
DTSTAMP:20260425T122127
CREATED:20220201T134519Z
LAST-MODIFIED:20220201T134519Z
UID:426-1660847400-1660847400@hopewelltownshipcc.com
SUMMARY:Planning Commission Meeting
DESCRIPTION:
URL:https://hopewelltownshipcc.com/event/planning-commission-meeting-7/
CATEGORIES:Planning Commission Meeting
END:VEVENT
BEGIN:VEVENT
DTSTART;TZID=America/New_York:20220811T190000
DTEND;TZID=America/New_York:20220811T190000
DTSTAMP:20260425T122127
CREATED:20220201T133140Z
LAST-MODIFIED:20220201T133140Z
UID:368-1660244400-1660244400@hopewelltownshipcc.com
SUMMARY:Newburg-Hopewell Sewer Authority Meeting
DESCRIPTION:
URL:https://hopewelltownshipcc.com/event/regular-monthly-meeting-7/
CATEGORIES:Newburg-Hopewell Sewer Authority Meeting
END:VEVENT
BEGIN:VEVENT
DTSTART;TZID=America/New_York:20220809T190000
DTEND;TZID=America/New_York:20220809T200000
DTSTAMP:20260425T122127
CREATED:20220331T012338Z
LAST-MODIFIED:20220331T012338Z
UID:601-1660071600-1660075200@hopewelltownshipcc.com
SUMMARY:Parks & Recreation Board Meeting
DESCRIPTION:
URL:https://hopewelltownshipcc.com/event/parks-recreation-board-meeting-2/
LOCATION:Township Office\, 415 Three Square Hollow Rd\, Newburg\, PA
END:VEVENT
BEGIN:VEVENT
DTSTART;TZID=America/New_York:20220801T190000
DTEND;TZID=America/New_York:20220801T190000
DTSTAMP:20260425T122127
CREATED:20220201T133845Z
LAST-MODIFIED:20220201T133845Z
UID:400-1659380400-1659380400@hopewelltownshipcc.com
SUMMARY:Board of Supervisors Meeting
DESCRIPTION:
URL:https://hopewelltownshipcc.com/event/board-of-supervisors-meeting-7/
CATEGORIES:Board of Supervisors Meeting
END:VEVENT
BEGIN:VEVENT
DTSTART;TZID=America/New_York:20220721T183000
DTEND;TZID=America/New_York:20220721T183000
DTSTAMP:20260425T122127
CREATED:20220201T134448Z
LAST-MODIFIED:20220201T134448Z
UID:424-1658428200-1658428200@hopewelltownshipcc.com
SUMMARY:Planning Commission Meeting
DESCRIPTION:
URL:https://hopewelltownshipcc.com/event/planning-commission-meeting-6/
CATEGORIES:Planning Commission Meeting
END:VEVENT
BEGIN:VEVENT
DTSTART;TZID=America/New_York:20220714T190000
DTEND;TZID=America/New_York:20220714T190000
DTSTAMP:20260425T122127
CREATED:20220201T133104Z
LAST-MODIFIED:20220201T133104Z
UID:366-1657825200-1657825200@hopewelltownshipcc.com
SUMMARY:Newburg-Hopewell Sewer Authority Meeting
DESCRIPTION:
URL:https://hopewelltownshipcc.com/event/regular-monthly-meeting-6/
CATEGORIES:Newburg-Hopewell Sewer Authority Meeting
END:VEVENT
BEGIN:VEVENT
DTSTART;TZID=America/New_York:20220705T190000
DTEND;TZID=America/New_York:20220705T190000
DTSTAMP:20260425T122127
CREATED:20220201T133820Z
LAST-MODIFIED:20220201T133820Z
UID:398-1657047600-1657047600@hopewelltownshipcc.com
SUMMARY:Board of Supervisors Meeting
DESCRIPTION:
URL:https://hopewelltownshipcc.com/event/board-of-supervisors-meeting-6/
CATEGORIES:Board of Supervisors Meeting
END:VEVENT
BEGIN:VEVENT
DTSTART;TZID=America/New_York:20220616T183000
DTEND;TZID=America/New_York:20220616T183000
DTSTAMP:20260425T122127
CREATED:20220201T134421Z
LAST-MODIFIED:20220201T134421Z
UID:422-1655404200-1655404200@hopewelltownshipcc.com
SUMMARY:Planning Commission Meeting
DESCRIPTION:
URL:https://hopewelltownshipcc.com/event/planning-commission-meeting-5/
CATEGORIES:Planning Commission Meeting
END:VEVENT
BEGIN:VEVENT
DTSTART;TZID=America/New_York:20220614T190000
DTEND;TZID=America/New_York:20220614T200000
DTSTAMP:20260425T122127
CREATED:20220331T012026Z
LAST-MODIFIED:20220331T012026Z
UID:598-1655233200-1655236800@hopewelltownshipcc.com
SUMMARY:Parks & Recreation Board Meeting
DESCRIPTION:
URL:https://hopewelltownshipcc.com/event/parks-recreation-board-meeting/
LOCATION:Township Office\, 415 Three Square Hollow Rd\, Newburg\, PA
END:VEVENT
END:VCALENDAR