BEGIN:VCALENDAR
VERSION:2.0
PRODID:-//Hopewell Township - ECPv6.1.3//NONSGML v1.0//EN
CALSCALE:GREGORIAN
METHOD:PUBLISH
X-WR-CALNAME:Hopewell Township
X-ORIGINAL-URL:https://hopewelltownshipcc.com
X-WR-CALDESC:Events for Hopewell Township
REFRESH-INTERVAL;VALUE=DURATION:PT1H
X-Robots-Tag:noindex
X-PUBLISHED-TTL:PT1H
BEGIN:VTIMEZONE
TZID:America/New_York
BEGIN:DAYLIGHT
TZOFFSETFROM:-0500
TZOFFSETTO:-0400
TZNAME:EDT
DTSTART:20250309T070000
END:DAYLIGHT
BEGIN:STANDARD
TZOFFSETFROM:-0400
TZOFFSETTO:-0500
TZNAME:EST
DTSTART:20251102T060000
END:STANDARD
END:VTIMEZONE
BEGIN:VEVENT
DTSTART;TZID=America/New_York:20250707T190000
DTEND;TZID=America/New_York:20250707T190000
DTSTAMP:20260424T124154
CREATED:20250213T134753Z
LAST-MODIFIED:20250213T134753Z
UID:3818-1751914800-1751914800@hopewelltownshipcc.com
SUMMARY:Board of Supervisors Meeting
DESCRIPTION:
URL:https://hopewelltownshipcc.com/event/board-of-supervisors-meeting-64/
END:VEVENT
BEGIN:VEVENT
DTSTART;TZID=America/New_York:20250804T190000
DTEND;TZID=America/New_York:20250804T190000
DTSTAMP:20260424T124154
CREATED:20250213T134828Z
LAST-MODIFIED:20250213T134828Z
UID:3820-1754334000-1754334000@hopewelltownshipcc.com
SUMMARY:Board of Supervisors Meeting
DESCRIPTION:
URL:https://hopewelltownshipcc.com/event/board-of-supervisors-meeting-65/
END:VEVENT
BEGIN:VEVENT
DTSTART;TZID=America/New_York:20250813T190000
DTEND;TZID=America/New_York:20250813T190000
DTSTAMP:20260424T124154
CREATED:20250213T135500Z
LAST-MODIFIED:20250213T135500Z
UID:3838-1755111600-1755111600@hopewelltownshipcc.com
SUMMARY:Parks & Recreation Meeting
DESCRIPTION:
URL:https://hopewelltownshipcc.com/event/parks-recreation-meeting-26/
END:VEVENT
BEGIN:VEVENT
DTSTART;TZID=America/New_York:20250902T190000
DTEND;TZID=America/New_York:20250902T190000
DTSTAMP:20260424T124154
CREATED:20250213T134934Z
LAST-MODIFIED:20250213T134934Z
UID:3822-1756839600-1756839600@hopewelltownshipcc.com
SUMMARY:Board of Supervisors Meeting
DESCRIPTION:
URL:https://hopewelltownshipcc.com/event/board-of-supervisors-meeting-66/
END:VEVENT
BEGIN:VEVENT
DTSTART;TZID=America/New_York:20250910T190000
DTEND;TZID=America/New_York:20250910T190000
DTSTAMP:20260424T124154
CREATED:20250213T135616Z
LAST-MODIFIED:20250213T135616Z
UID:3840-1757530800-1757530800@hopewelltownshipcc.com
SUMMARY:Parks & Recreation Meeting
DESCRIPTION:
URL:https://hopewelltownshipcc.com/event/parks-recreation-meeting-27/
END:VEVENT
BEGIN:VEVENT
DTSTART;TZID=America/New_York:20251006T190000
DTEND;TZID=America/New_York:20251006T190000
DTSTAMP:20260424T124154
CREATED:20250213T135004Z
LAST-MODIFIED:20250213T135015Z
UID:3824-1759777200-1759777200@hopewelltownshipcc.com
SUMMARY:Board of Supervisors Meeting
DESCRIPTION:
URL:https://hopewelltownshipcc.com/event/board-of-supervisors-meeting-67/
END:VEVENT
BEGIN:VEVENT
DTSTART;TZID=America/New_York:20251008T190000
DTEND;TZID=America/New_York:20251008T190000
DTSTAMP:20260424T124154
CREATED:20250213T135637Z
LAST-MODIFIED:20250213T135637Z
UID:3842-1759950000-1759950000@hopewelltownshipcc.com
SUMMARY:Parks & Recreation Meeting
DESCRIPTION:
URL:https://hopewelltownshipcc.com/event/parks-recreation-meeting-28/
END:VEVENT
BEGIN:VEVENT
DTSTART;TZID=America/New_York:20251016T183000
DTEND;TZID=America/New_York:20251016T183000
DTSTAMP:20260424T124154
CREATED:20251015T183007Z
LAST-MODIFIED:20251015T183007Z
UID:4276-1760639400-1760639400@hopewelltownshipcc.com
SUMMARY:Planning Commission Meeting
DESCRIPTION:
URL:https://hopewelltownshipcc.com/event/planning-commission-meeting-19/
END:VEVENT
BEGIN:VEVENT
DTSTART;TZID=America/New_York:20251019T160000
DTEND;TZID=America/New_York:20251019T180000
DTSTAMP:20260424T124154
CREATED:20251015T183044Z
LAST-MODIFIED:20251015T183044Z
UID:4278-1760889600-1760896800@hopewelltownshipcc.com
SUMMARY:Trunk-or-Treat @ Park
DESCRIPTION:
URL:https://hopewelltownshipcc.com/event/trunk-or-treat-park/
END:VEVENT
BEGIN:VEVENT
DTSTART;TZID=America/New_York:20251031T180000
DTEND;TZID=America/New_York:20251031T200000
DTSTAMP:20260424T124154
CREATED:20251015T183114Z
LAST-MODIFIED:20251015T183114Z
UID:4280-1761933600-1761940800@hopewelltownshipcc.com
SUMMARY:Trick-or-Treat
DESCRIPTION:
URL:https://hopewelltownshipcc.com/event/trick-or-treat/
END:VEVENT
BEGIN:VEVENT
DTSTART;TZID=America/New_York:20251103T190000
DTEND;TZID=America/New_York:20251103T190000
DTSTAMP:20260424T124154
CREATED:20250213T135106Z
LAST-MODIFIED:20250213T135116Z
UID:3826-1762196400-1762196400@hopewelltownshipcc.com
SUMMARY:Board of Supervisors Meeting
DESCRIPTION:
URL:https://hopewelltownshipcc.com/event/board-of-supervisors-meeting-68/
END:VEVENT
BEGIN:VEVENT
DTSTART;VALUE=DATE:20251104
DTEND;VALUE=DATE:20251105
DTSTAMP:20260424T124154
CREATED:20251103T164414Z
LAST-MODIFIED:20251103T164414Z
UID:4306-1762214400-1762300799@hopewelltownshipcc.com
SUMMARY:Office Closed
DESCRIPTION:
URL:https://hopewelltownshipcc.com/event/office-closed-3/
END:VEVENT
BEGIN:VEVENT
DTSTART;TZID=America/New_York:20251106T183000
DTEND;TZID=America/New_York:20251106T183000
DTSTAMP:20260424T124154
CREATED:20251020T182242Z
LAST-MODIFIED:20251020T182242Z
UID:4292-1762453800-1762453800@hopewelltownshipcc.com
SUMMARY:Zoning Hearing Board Meeting
DESCRIPTION:
URL:https://hopewelltownshipcc.com/event/zoning-hearing-board-meeting-3/
END:VEVENT
BEGIN:VEVENT
DTSTART;TZID=America/New_York:20251112T190000
DTEND;TZID=America/New_York:20251112T190000
DTSTAMP:20260424T124154
CREATED:20250213T135710Z
LAST-MODIFIED:20250213T135710Z
UID:3844-1762974000-1762974000@hopewelltownshipcc.com
SUMMARY:Parks & Recreation Meeting
DESCRIPTION:
URL:https://hopewelltownshipcc.com/event/parks-recreation-meeting-29/
END:VEVENT
BEGIN:VEVENT
DTSTART;TZID=America/New_York:20251120T183000
DTEND;TZID=America/New_York:20251120T183000
DTSTAMP:20260424T124154
CREATED:20251103T164517Z
LAST-MODIFIED:20251103T164517Z
UID:4308-1763663400-1763663400@hopewelltownshipcc.com
SUMMARY:Planning Commission Meeting
DESCRIPTION:
URL:https://hopewelltownshipcc.com/event/planning-commission-meeting-20/
END:VEVENT
BEGIN:VEVENT
DTSTART;TZID=America/New_York:20251201T190000
DTEND;TZID=America/New_York:20251201T190000
DTSTAMP:20260424T124154
CREATED:20250213T135205Z
LAST-MODIFIED:20250213T135205Z
UID:3828-1764615600-1764615600@hopewelltownshipcc.com
SUMMARY:Board of Supervisors Meeting
DESCRIPTION:
URL:https://hopewelltownshipcc.com/event/board-of-supervisors-meeting-69/
END:VEVENT
END:VCALENDAR